BEGIN:VCALENDAR
VERSION:2.0
PRODID:-//Grande Prairie Golf &amp; Country Club - ECPv6.15.14//NONSGML v1.0//EN
CALSCALE:GREGORIAN
METHOD:PUBLISH
X-WR-CALNAME:Grande Prairie Golf &amp; Country Club
X-ORIGINAL-URL:https://www.gpgolf.ca
X-WR-CALDESC:Events for Grande Prairie Golf &amp; Country Club
REFRESH-INTERVAL;VALUE=DURATION:PT1H
X-Robots-Tag:noindex
X-PUBLISHED-TTL:PT1H
BEGIN:VTIMEZONE
TZID:UTC
BEGIN:STANDARD
TZOFFSETFROM:+0000
TZOFFSETTO:+0000
TZNAME:UTC
DTSTART:20190101T000000
END:STANDARD
END:VTIMEZONE
BEGIN:VEVENT
DTSTART;VALUE=DATE:20210726
DTEND;VALUE=DATE:20210728
DTSTAMP:20260422T221636
CREATED:20210726T160654Z
LAST-MODIFIED:20210726T160654Z
UID:1758-1627257600-1627430399@www.gpgolf.ca
SUMMARY:GP Junior Open Event #2 – Windsor Ford Peace Country Junior Tour (Major)
DESCRIPTION:GP Junior Open Event #2 – Windsor Ford Peace Country Junior Tour (Major)
URL:https://www.gpgolf.ca/event/gp-junior-open-event-2-windsor-ford-peace-country-junior-tour-major/
END:VEVENT
BEGIN:VEVENT
DTSTART;TZID=UTC:20210627T080000
DTEND;TZID=UTC:20210627T170000
DTSTAMP:20260422T221636
CREATED:20210726T160605Z
LAST-MODIFIED:20210726T160605Z
UID:1755-1624780800-1624813200@www.gpgolf.ca
SUMMARY:Ladies Classic
DESCRIPTION:Ladies Classic
URL:https://www.gpgolf.ca/event/ladies-classic-2/
END:VEVENT
BEGIN:VEVENT
DTSTART;TZID=UTC:20201212T000000
DTEND;TZID=UTC:20201212T000000
DTSTAMP:20260422T221636
CREATED:20200227T175657Z
LAST-MODIFIED:20200227T175657Z
UID:1388-1607731200-1607731200@www.gpgolf.ca
SUMMARY:MNP Christmas Party
DESCRIPTION:MNP Christmas Party
URL:https://www.gpgolf.ca/event/mnp-christmas-party/
LOCATION:Legends Lounge
END:VEVENT
BEGIN:VEVENT
DTSTART;VALUE=DATE:20201205
DTEND;VALUE=DATE:20201206
DTSTAMP:20260422T221636
CREATED:20200729T184034Z
LAST-MODIFIED:20200729T184034Z
UID:1627-1607126400-1607212799@www.gpgolf.ca
SUMMARY:Erco Worldwide Party
DESCRIPTION:Erco Worldwide Party
URL:https://www.gpgolf.ca/event/erco-worldwide-party/
END:VEVENT
BEGIN:VEVENT
DTSTART;TZID=UTC:20201205T000000
DTEND;TZID=UTC:20201205T000000
DTSTAMP:20260422T221636
CREATED:20200227T175747Z
LAST-MODIFIED:20200227T175747Z
UID:1391-1607126400-1607126400@www.gpgolf.ca
SUMMARY:Erco Worldwide Christmas Party
DESCRIPTION:Erco Worldwide Christmas Party
URL:https://www.gpgolf.ca/event/erco-worldwide-christmas-party/
END:VEVENT
BEGIN:VEVENT
DTSTART;VALUE=DATE:20201107
DTEND;VALUE=DATE:20201108
DTSTAMP:20260422T221636
CREATED:20200729T184001Z
LAST-MODIFIED:20200729T184001Z
UID:1624-1604707200-1604793599@www.gpgolf.ca
SUMMARY:Fall Fundraiser
DESCRIPTION:Fall Fundraiser
URL:https://www.gpgolf.ca/event/fall-fundraiser/
END:VEVENT
BEGIN:VEVENT
DTSTART;VALUE=DATE:20201010
DTEND;VALUE=DATE:20201011
DTSTAMP:20260422T221636
CREATED:20200729T183928Z
LAST-MODIFIED:20200729T183928Z
UID:1621-1602288000-1602374399@www.gpgolf.ca
SUMMARY:Wedding
DESCRIPTION:Wedding
URL:https://www.gpgolf.ca/event/wedding/
END:VEVENT
BEGIN:VEVENT
DTSTART;VALUE=DATE:20200926
DTEND;VALUE=DATE:20200927
DTSTAMP:20260422T221636
CREATED:20200703T215230Z
LAST-MODIFIED:20200703T215230Z
UID:1555-1601078400-1601164799@www.gpgolf.ca
SUMMARY:The Grinder Tournament
DESCRIPTION:The Grinder Tournament
URL:https://www.gpgolf.ca/event/the-grinder-tournament/
END:VEVENT
BEGIN:VEVENT
DTSTART;VALUE=DATE:20200915
DTEND;VALUE=DATE:20200916
DTSTAMP:20260422T221636
CREATED:20200729T183836Z
LAST-MODIFIED:20200729T183836Z
UID:1618-1600128000-1600214399@www.gpgolf.ca
SUMMARY:Ladies Club (Foley Cup)
DESCRIPTION:Ladies Club (Foley Cup)
URL:https://www.gpgolf.ca/event/ladies-club-foley-cup/
END:VEVENT
BEGIN:VEVENT
DTSTART;VALUE=DATE:20200914
DTEND;VALUE=DATE:20200915
DTSTAMP:20260422T221636
CREATED:20200729T183808Z
LAST-MODIFIED:20200729T183808Z
UID:1615-1600041600-1600127999@www.gpgolf.ca
SUMMARY:High School Zone Championships
DESCRIPTION:High School Zone Championships
URL:https://www.gpgolf.ca/event/high-school-zone-championships/
END:VEVENT
BEGIN:VEVENT
DTSTART;VALUE=DATE:20200910
DTEND;VALUE=DATE:20200911
DTSTAMP:20260422T221636
CREATED:20200729T183734Z
LAST-MODIFIED:20200729T183734Z
UID:1612-1599696000-1599782399@www.gpgolf.ca
SUMMARY:Sunrise/ Odyssey House Golf Event
DESCRIPTION:Sunrise/ Odyssey House Golf Event
URL:https://www.gpgolf.ca/event/sunrise-odyssey-house-golf-event/
END:VEVENT
BEGIN:VEVENT
DTSTART;VALUE=DATE:20200908
DTEND;VALUE=DATE:20200909
DTSTAMP:20260422T221636
CREATED:20200729T183655Z
LAST-MODIFIED:20200729T183655Z
UID:1609-1599523200-1599609599@www.gpgolf.ca
SUMMARY:Teachers' Breakfast
DESCRIPTION:Teachers’ Breakfast
URL:https://www.gpgolf.ca/event/teachers-breakfast/
END:VEVENT
BEGIN:VEVENT
DTSTART;VALUE=DATE:20200905
DTEND;VALUE=DATE:20200908
DTSTAMP:20260422T221636
CREATED:20200703T215142Z
LAST-MODIFIED:20200703T215142Z
UID:1552-1599264000-1599523199@www.gpgolf.ca
SUMMARY:Men's Open
DESCRIPTION:Men’s Open
URL:https://www.gpgolf.ca/event/mens-open/
END:VEVENT
BEGIN:VEVENT
DTSTART;VALUE=DATE:20200831
DTEND;VALUE=DATE:20200901
DTSTAMP:20260422T221636
CREATED:20200703T215110Z
LAST-MODIFIED:20200703T215110Z
UID:1549-1598832000-1598918399@www.gpgolf.ca
SUMMARY:Grandmas' Tournament
DESCRIPTION:Grandmas’ Tournament
URL:https://www.gpgolf.ca/event/grandmas-tournament-3/
END:VEVENT
BEGIN:VEVENT
DTSTART;VALUE=DATE:20200829
DTEND;VALUE=DATE:20200830
DTSTAMP:20260422T221636
CREATED:20200703T215038Z
LAST-MODIFIED:20200703T215038Z
UID:1546-1598659200-1598745599@www.gpgolf.ca
SUMMARY:Members' Classic
DESCRIPTION:Members’ Classic
URL:https://www.gpgolf.ca/event/members-classic/
END:VEVENT
BEGIN:VEVENT
DTSTART;VALUE=DATE:20200828
DTEND;VALUE=DATE:20200829
DTSTAMP:20260422T221636
CREATED:20200729T183600Z
LAST-MODIFIED:20200729T183600Z
UID:1606-1598572800-1598659199@www.gpgolf.ca
SUMMARY:Inked Energy Golf Event
DESCRIPTION:Inked Energy Golf Event
URL:https://www.gpgolf.ca/event/inked-energy-golf-event/
END:VEVENT
BEGIN:VEVENT
DTSTART;VALUE=DATE:20200828
DTEND;VALUE=DATE:20200829
DTSTAMP:20260422T221636
CREATED:20200729T183534Z
LAST-MODIFIED:20200729T183534Z
UID:1603-1598572800-1598659199@www.gpgolf.ca
SUMMARY:Rotary Club Golf Event
DESCRIPTION:Rotary Club Golf Event
URL:https://www.gpgolf.ca/event/rotary-club-golf-event/
END:VEVENT
BEGIN:VEVENT
DTSTART;VALUE=DATE:20200827
DTEND;VALUE=DATE:20200828
DTSTAMP:20260422T221636
CREATED:20200729T183501Z
LAST-MODIFIED:20200729T183501Z
UID:1600-1598486400-1598572799@www.gpgolf.ca
SUMMARY:Solution Services Golf Event
DESCRIPTION:Solution Services Golf Event
URL:https://www.gpgolf.ca/event/solution-services-golf-event/
END:VEVENT
BEGIN:VEVENT
DTSTART;VALUE=DATE:20200822
DTEND;VALUE=DATE:20200823
DTSTAMP:20260422T221636
CREATED:20200729T183015Z
LAST-MODIFIED:20200729T183015Z
UID:1596-1598054400-1598140799@www.gpgolf.ca
SUMMARY:Triple Threat Diesel Services Event
DESCRIPTION:Triple Threat Diesel Services Event
URL:https://www.gpgolf.ca/event/triple-threat-diesel-services-event/
END:VEVENT
BEGIN:VEVENT
DTSTART;VALUE=DATE:20200819
DTEND;VALUE=DATE:20200821
DTSTAMP:20260422T221636
CREATED:20200729T182938Z
LAST-MODIFIED:20200729T182938Z
UID:1593-1597795200-1597967999@www.gpgolf.ca
SUMMARY:Crown 2-Day Challenge
DESCRIPTION:Crown 2-Day Challenge
URL:https://www.gpgolf.ca/event/crown-2-day-challenge/
END:VEVENT
BEGIN:VEVENT
DTSTART;TZID=UTC:20200814T144000
DTEND;TZID=UTC:20200814T170000
DTSTAMP:20260422T221636
CREATED:20200729T182829Z
LAST-MODIFIED:20200729T182829Z
UID:1587-1597416000-1597424400@www.gpgolf.ca
SUMMARY:3D Virtual Presentation
DESCRIPTION:3D Virtual Presentation
URL:https://www.gpgolf.ca/event/3d-virtual-presentation/
END:VEVENT
BEGIN:VEVENT
DTSTART;VALUE=DATE:20200814
DTEND;VALUE=DATE:20200817
DTSTAMP:20260422T221636
CREATED:20200729T182906Z
LAST-MODIFIED:20200729T182906Z
UID:1590-1597363200-1597622399@www.gpgolf.ca
SUMMARY:Tea Cup Event
DESCRIPTION:Tea Cup Event
URL:https://www.gpgolf.ca/event/tea-cup-event/
END:VEVENT
BEGIN:VEVENT
DTSTART;VALUE=DATE:20200813
DTEND;VALUE=DATE:20200814
DTSTAMP:20260422T221636
CREATED:20200729T182737Z
LAST-MODIFIED:20200729T182737Z
UID:1584-1597276800-1597363199@www.gpgolf.ca
SUMMARY:Seniors' Open
DESCRIPTION:Seniors’ Open
URL:https://www.gpgolf.ca/event/seniors-open/
END:VEVENT
BEGIN:VEVENT
DTSTART;TZID=UTC:20200808T080000
DTEND;TZID=UTC:20200809T170000
DTSTAMP:20260422T221636
CREATED:20200703T215008Z
LAST-MODIFIED:20200703T215008Z
UID:1543-1596873600-1596992400@www.gpgolf.ca
SUMMARY:Club Championship
DESCRIPTION:Club Championship
URL:https://www.gpgolf.ca/event/club-championship/
END:VEVENT
BEGIN:VEVENT
DTSTART;VALUE=DATE:20200802
DTEND;VALUE=DATE:20200803
DTSTAMP:20260422T221636
CREATED:20200729T182631Z
LAST-MODIFIED:20200729T182631Z
UID:1581-1596326400-1596412799@www.gpgolf.ca
SUMMARY:Nevada Bob's 9 Hole Event
DESCRIPTION:Nevada Bob’s 9 Hole Event
URL:https://www.gpgolf.ca/event/nevada-bobs-9-hole-event/
END:VEVENT
BEGIN:VEVENT
DTSTART;VALUE=DATE:20200718
DTEND;VALUE=DATE:20200720
DTSTAMP:20260422T221636
CREATED:20200703T214938Z
LAST-MODIFIED:20200703T214938Z
UID:1540-1595030400-1595203199@www.gpgolf.ca
SUMMARY:Ladies' Open
DESCRIPTION:Ladies Open
URL:https://www.gpgolf.ca/event/ladies-open/
END:VEVENT
BEGIN:VEVENT
DTSTART;VALUE=DATE:20200713
DTEND;VALUE=DATE:20200715
DTSTAMP:20260422T221636
CREATED:20200703T213428Z
LAST-MODIFIED:20200703T213428Z
UID:1535-1594598400-1594771199@www.gpgolf.ca
SUMMARY:Junior Open
DESCRIPTION:
URL:https://www.gpgolf.ca/event/junior-open/
LOCATION:Grande Prairie Golf & Country Club\, 711040 Resources Road\, Grande Prairie\, Alberta\, T8V 3A7\, Canada
END:VEVENT
BEGIN:VEVENT
DTSTART;VALUE=DATE:20200706
DTEND;VALUE=DATE:20200707
DTSTAMP:20260422T221636
CREATED:20191021T204903Z
LAST-MODIFIED:20200703T213215Z
UID:1180-1593993600-1594079999@www.gpgolf.ca
SUMMARY:.
DESCRIPTION:
URL:https://www.gpgolf.ca/event/grandmas-tournament-2/
LOCATION:Grande Prairie Golf & Country Club\, 711040 Resources Road\, Grande Prairie\, Alberta\, T8V 3A7\, Canada
END:VEVENT
BEGIN:VEVENT
DTSTART;VALUE=DATE:20200607
DTEND;VALUE=DATE:20200608
DTSTAMP:20260422T221636
CREATED:20191021T204553Z
LAST-MODIFIED:20191021T204553Z
UID:1177-1591488000-1591574399@www.gpgolf.ca
SUMMARY:Ladies' Classic Tournament
DESCRIPTION:As the first Ladies Club Tournament of the year\, the Ladies Classic is designed for golfers at all levels with an emphasis on fun\, fellowship\, good prizes and good food. The tournament itself is a net 2-ball played in teams of 4. On each hole\, the two best net scores are added together to determine the team score. The team with the lowest total score is the winner. Dream Putts are usually available.
URL:https://www.gpgolf.ca/event/ladies-classic-tournament/
LOCATION:Grande Prairie Golf & Country Club\, 711040 Resources Road\, Grande Prairie\, Alberta\, T8V 3A7\, Canada
END:VEVENT
BEGIN:VEVENT
DTSTART;TZID=UTC:20200319T000000
DTEND;TZID=UTC:20200319T000000
DTSTAMP:20260422T221636
CREATED:20200305T161527Z
LAST-MODIFIED:20200305T161527Z
UID:1397-1584576000-1584576000@www.gpgolf.ca
SUMMARY:Private Luncheon
DESCRIPTION:Private Luncheon
URL:https://www.gpgolf.ca/event/private-luncheon/
LOCATION:Legends Lounge
END:VEVENT
END:VCALENDAR