BEGIN:VCALENDAR
VERSION:2.0
PRODID:-//Grande Prairie Golf &amp; Country Club - ECPv6.15.14//NONSGML v1.0//EN
CALSCALE:GREGORIAN
METHOD:PUBLISH
X-WR-CALNAME:Grande Prairie Golf &amp; Country Club
X-ORIGINAL-URL:https://www.gpgolf.ca
X-WR-CALDESC:Events for Grande Prairie Golf &amp; Country Club
REFRESH-INTERVAL;VALUE=DURATION:PT1H
X-Robots-Tag:noindex
X-PUBLISHED-TTL:PT1H
BEGIN:VTIMEZONE
TZID:UTC
BEGIN:STANDARD
TZOFFSETFROM:+0000
TZOFFSETTO:+0000
TZNAME:UTC
DTSTART:20190101T000000
END:STANDARD
END:VTIMEZONE
BEGIN:VEVENT
DTSTART;VALUE=DATE:20220725
DTEND;VALUE=DATE:20220727
DTSTAMP:20260419T224026
CREATED:20220117T211902Z
LAST-MODIFIED:20220117T211943Z
UID:1895-1658707200-1658879999@www.gpgolf.ca
SUMMARY:Juniors' Open
DESCRIPTION:Juniors’ Open
URL:https://www.gpgolf.ca/event/juniors-open/
LOCATION:Grande Prairie Golf & Country Club\, 711040 Resources Road\, Grande Prairie\, Alberta\, T8V 3A7\, Canada
END:VEVENT
BEGIN:VEVENT
DTSTART;VALUE=DATE:20220716
DTEND;VALUE=DATE:20220718
DTSTAMP:20260419T224026
CREATED:20220117T211738Z
LAST-MODIFIED:20220117T211747Z
UID:1889-1657929600-1658102399@www.gpgolf.ca
SUMMARY:Ladies Open Tournament
DESCRIPTION:Ladies Open Tournament
URL:https://www.gpgolf.ca/event/ladies-open-tournament/
LOCATION:Grande Prairie Golf & Country Club\, 711040 Resources Road\, Grande Prairie\, Alberta\, T8V 3A7\, Canada
END:VEVENT
BEGIN:VEVENT
DTSTART;VALUE=DATE:20220625
DTEND;VALUE=DATE:20220626
DTSTAMP:20260419T224026
CREATED:20220117T211655Z
LAST-MODIFIED:20220117T211655Z
UID:1886-1656115200-1656201599@www.gpgolf.ca
SUMMARY:Couples' Classic Tournament
DESCRIPTION:Couples’ Classic Tournament
URL:https://www.gpgolf.ca/event/couples-classic-tournament/
LOCATION:Grande Prairie Golf & Country Club\, 711040 Resources Road\, Grande Prairie\, Alberta\, T8V 3A7\, Canada
END:VEVENT
BEGIN:VEVENT
DTSTART;VALUE=DATE:20220618
DTEND;VALUE=DATE:20220619
DTSTAMP:20260419T224026
CREATED:20220117T211551Z
LAST-MODIFIED:20220117T211612Z
UID:1883-1655510400-1655596799@www.gpgolf.ca
SUMMARY:Club Championship
DESCRIPTION:Club Championship
URL:https://www.gpgolf.ca/event/club-championship-3/
END:VEVENT
BEGIN:VEVENT
DTSTART;VALUE=DATE:20220613
DTEND;VALUE=DATE:20220614
DTSTAMP:20260419T224026
CREATED:20220117T211517Z
LAST-MODIFIED:20220118T163314Z
UID:1880-1655078400-1655164799@www.gpgolf.ca
SUMMARY:Ladies Interclub Championship
DESCRIPTION:Ladies Interclub Championship
URL:https://www.gpgolf.ca/event/ladies-interclub-championship/
LOCATION:Grande Prairie Golf & Country Club\, 711040 Resources Road\, Grande Prairie\, Alberta\, T8V 3A7\, Canada
END:VEVENT
BEGIN:VEVENT
DTSTART;VALUE=DATE:20220611
DTEND;VALUE=DATE:20220612
DTSTAMP:20260419T224026
CREATED:20220422T153537Z
LAST-MODIFIED:20220422T153537Z
UID:2096-1654905600-1654991999@www.gpgolf.ca
SUMMARY:Spring Classic Cash Scramble
DESCRIPTION:Spring Classic Cash Scramble
URL:https://www.gpgolf.ca/event/spring-classic-cash-scramble/
END:VEVENT
BEGIN:VEVENT
DTSTART;VALUE=DATE:20220604
DTEND;VALUE=DATE:20220605
DTSTAMP:20260419T224026
CREATED:20220117T211410Z
LAST-MODIFIED:20220420T172408Z
UID:1876-1654300800-1654387199@www.gpgolf.ca
SUMMARY:Ladies' Classic Tournament
DESCRIPTION:Ladies’ Classic Tournament\n1 p.m. Shotgun
URL:https://www.gpgolf.ca/event/ladies-classic-tournament-2/
END:VEVENT
BEGIN:VEVENT
DTSTART;VALUE=DATE:20220518
DTEND;VALUE=DATE:20220520
DTSTAMP:20260419T224026
CREATED:20220117T211252Z
LAST-MODIFIED:20220117T211435Z
UID:1873-1652832000-1653004799@www.gpgolf.ca
SUMMARY:Peace Region Energy Show
DESCRIPTION:Peace Region Energy Show
URL:https://www.gpgolf.ca/event/peace-region-energy-show/
END:VEVENT
BEGIN:VEVENT
DTSTART;TZID=UTC:20220426T180000
DTEND;TZID=UTC:20220426T210000
DTSTAMP:20260419T224026
CREATED:20220420T172336Z
LAST-MODIFIED:20220420T172336Z
UID:2093-1650996000-1651006800@www.gpgolf.ca
SUMMARY:Ladies Club Welcome Night
DESCRIPTION:Tuesday\, April 26 @ 6:00 p.m.\nGPGCC Clubhouse\nSign up for Leagues\nMeet New Members\nReconnect with old friends\nLimited Menu Available
URL:https://www.gpgolf.ca/event/ladies-club-welcome-night/
END:VEVENT
BEGIN:VEVENT
DTSTART;VALUE=DATE:20210925
DTEND;VALUE=DATE:20210926
DTSTAMP:20260419T224026
CREATED:20210729T153717Z
LAST-MODIFIED:20210729T153717Z
UID:1789-1632528000-1632614399@www.gpgolf.ca
SUMMARY:The Grinder
DESCRIPTION:The Grinder
URL:https://www.gpgolf.ca/event/the-grinder/
END:VEVENT
BEGIN:VEVENT
DTSTART;VALUE=DATE:20210904
DTEND;VALUE=DATE:20210907
DTSTAMP:20260419T224026
CREATED:20210726T161341Z
LAST-MODIFIED:20210726T161341Z
UID:1781-1630713600-1630972799@www.gpgolf.ca
SUMMARY:Grande Prairie Men’s Open
DESCRIPTION:Grande Prairie Men’s Open
URL:https://www.gpgolf.ca/event/grande-prairie-mens-open/
END:VEVENT
BEGIN:VEVENT
DTSTART;VALUE=DATE:20210830
DTEND;VALUE=DATE:20210831
DTSTAMP:20260419T224026
CREATED:20210726T161248Z
LAST-MODIFIED:20210726T161248Z
UID:1778-1630281600-1630367999@www.gpgolf.ca
SUMMARY:Grandmas' Tournament
DESCRIPTION:Grandmas’ Tournament
URL:https://www.gpgolf.ca/event/grandmas-tournament-4/
END:VEVENT
BEGIN:VEVENT
DTSTART;VALUE=DATE:20210829
DTEND;VALUE=DATE:20210830
DTSTAMP:20260419T224026
CREATED:20210819T190144Z
LAST-MODIFIED:20210819T190144Z
UID:1805-1630195200-1630281599@www.gpgolf.ca
SUMMARY:8th Annual Grande Prairie Firefighters Charity Golf Tournament
DESCRIPTION:8th Annual Grande Prairie Firefighters Charity Golf Tournament
URL:https://www.gpgolf.ca/event/8th-annual-grande-prairie-firefighters-charity-golf-tournament/
END:VEVENT
BEGIN:VEVENT
DTSTART;VALUE=DATE:20210828
DTEND;VALUE=DATE:20210829
DTSTAMP:20260419T224026
CREATED:20210726T161158Z
LAST-MODIFIED:20210726T161158Z
UID:1775-1630108800-1630195199@www.gpgolf.ca
SUMMARY:Couples' Classic
DESCRIPTION:Couples’ Classic
URL:https://www.gpgolf.ca/event/couples-classic/
END:VEVENT
BEGIN:VEVENT
DTSTART;VALUE=DATE:20210823
DTEND;VALUE=DATE:20210824
DTSTAMP:20260419T224026
CREATED:20210726T161135Z
LAST-MODIFIED:20210726T161135Z
UID:1772-1629676800-1629763199@www.gpgolf.ca
SUMMARY:Event #4 – Tour Championship\, Windsor Ford Peace Country Junior Tour
DESCRIPTION:Event #4 – Tour Championship\, Windsor Ford Peace Country Junior Tour
URL:https://www.gpgolf.ca/event/event-4-tour-championship-windsor-ford-peace-country-junior-tour/
END:VEVENT
BEGIN:VEVENT
DTSTART;VALUE=DATE:20210821
DTEND;VALUE=DATE:20210823
DTSTAMP:20260419T224026
CREATED:20210726T161111Z
LAST-MODIFIED:20210726T161111Z
UID:1769-1629504000-1629676799@www.gpgolf.ca
SUMMARY:Club Championship
DESCRIPTION:Club Championship
URL:https://www.gpgolf.ca/event/club-championship-2/
END:VEVENT
BEGIN:VEVENT
DTSTART;VALUE=DATE:20210809
DTEND;VALUE=DATE:20210810
DTSTAMP:20260419T224026
CREATED:20210726T161005Z
LAST-MODIFIED:20210726T161005Z
UID:1763-1628467200-1628553599@www.gpgolf.ca
SUMMARY:Event #3 – Windsor Ford Peace Country Junior Tour
DESCRIPTION:Event #3 – Windsor Ford Peace Country Junior Tour
URL:https://www.gpgolf.ca/event/event-3-windsor-ford-peace-country-junior-tour/
END:VEVENT
BEGIN:VEVENT
DTSTART;VALUE=DATE:20210805
DTEND;VALUE=DATE:20210808
DTSTAMP:20260419T224026
CREATED:20210726T160815Z
LAST-MODIFIED:20210726T160815Z
UID:1761-1628121600-1628380799@www.gpgolf.ca
SUMMARY:GPPA Oilmen’s Golf Event
DESCRIPTION:GPPA Oilmen’s Golf Event
URL:https://www.gpgolf.ca/event/gppa-oilmens-golf-event/
END:VEVENT
BEGIN:VEVENT
DTSTART;VALUE=DATE:20210726
DTEND;VALUE=DATE:20210728
DTSTAMP:20260419T224026
CREATED:20210726T160654Z
LAST-MODIFIED:20210726T160654Z
UID:1758-1627257600-1627430399@www.gpgolf.ca
SUMMARY:GP Junior Open Event #2 – Windsor Ford Peace Country Junior Tour (Major)
DESCRIPTION:GP Junior Open Event #2 – Windsor Ford Peace Country Junior Tour (Major)
URL:https://www.gpgolf.ca/event/gp-junior-open-event-2-windsor-ford-peace-country-junior-tour-major/
END:VEVENT
BEGIN:VEVENT
DTSTART;TZID=UTC:20210627T080000
DTEND;TZID=UTC:20210627T170000
DTSTAMP:20260419T224026
CREATED:20210726T160605Z
LAST-MODIFIED:20210726T160605Z
UID:1755-1624780800-1624813200@www.gpgolf.ca
SUMMARY:Ladies Classic
DESCRIPTION:Ladies Classic
URL:https://www.gpgolf.ca/event/ladies-classic-2/
END:VEVENT
BEGIN:VEVENT
DTSTART;TZID=UTC:20201212T000000
DTEND;TZID=UTC:20201212T000000
DTSTAMP:20260419T224026
CREATED:20200227T175657Z
LAST-MODIFIED:20200227T175657Z
UID:1388-1607731200-1607731200@www.gpgolf.ca
SUMMARY:MNP Christmas Party
DESCRIPTION:MNP Christmas Party
URL:https://www.gpgolf.ca/event/mnp-christmas-party/
LOCATION:Legends Lounge
END:VEVENT
BEGIN:VEVENT
DTSTART;VALUE=DATE:20201205
DTEND;VALUE=DATE:20201206
DTSTAMP:20260419T224026
CREATED:20200729T184034Z
LAST-MODIFIED:20200729T184034Z
UID:1627-1607126400-1607212799@www.gpgolf.ca
SUMMARY:Erco Worldwide Party
DESCRIPTION:Erco Worldwide Party
URL:https://www.gpgolf.ca/event/erco-worldwide-party/
END:VEVENT
BEGIN:VEVENT
DTSTART;TZID=UTC:20201205T000000
DTEND;TZID=UTC:20201205T000000
DTSTAMP:20260419T224026
CREATED:20200227T175747Z
LAST-MODIFIED:20200227T175747Z
UID:1391-1607126400-1607126400@www.gpgolf.ca
SUMMARY:Erco Worldwide Christmas Party
DESCRIPTION:Erco Worldwide Christmas Party
URL:https://www.gpgolf.ca/event/erco-worldwide-christmas-party/
END:VEVENT
BEGIN:VEVENT
DTSTART;VALUE=DATE:20201107
DTEND;VALUE=DATE:20201108
DTSTAMP:20260419T224026
CREATED:20200729T184001Z
LAST-MODIFIED:20200729T184001Z
UID:1624-1604707200-1604793599@www.gpgolf.ca
SUMMARY:Fall Fundraiser
DESCRIPTION:Fall Fundraiser
URL:https://www.gpgolf.ca/event/fall-fundraiser/
END:VEVENT
BEGIN:VEVENT
DTSTART;VALUE=DATE:20201010
DTEND;VALUE=DATE:20201011
DTSTAMP:20260419T224026
CREATED:20200729T183928Z
LAST-MODIFIED:20200729T183928Z
UID:1621-1602288000-1602374399@www.gpgolf.ca
SUMMARY:Wedding
DESCRIPTION:Wedding
URL:https://www.gpgolf.ca/event/wedding/
END:VEVENT
BEGIN:VEVENT
DTSTART;VALUE=DATE:20200926
DTEND;VALUE=DATE:20200927
DTSTAMP:20260419T224026
CREATED:20200703T215230Z
LAST-MODIFIED:20200703T215230Z
UID:1555-1601078400-1601164799@www.gpgolf.ca
SUMMARY:The Grinder Tournament
DESCRIPTION:The Grinder Tournament
URL:https://www.gpgolf.ca/event/the-grinder-tournament/
END:VEVENT
BEGIN:VEVENT
DTSTART;VALUE=DATE:20200915
DTEND;VALUE=DATE:20200916
DTSTAMP:20260419T224026
CREATED:20200729T183836Z
LAST-MODIFIED:20200729T183836Z
UID:1618-1600128000-1600214399@www.gpgolf.ca
SUMMARY:Ladies Club (Foley Cup)
DESCRIPTION:Ladies Club (Foley Cup)
URL:https://www.gpgolf.ca/event/ladies-club-foley-cup/
END:VEVENT
BEGIN:VEVENT
DTSTART;VALUE=DATE:20200914
DTEND;VALUE=DATE:20200915
DTSTAMP:20260419T224026
CREATED:20200729T183808Z
LAST-MODIFIED:20200729T183808Z
UID:1615-1600041600-1600127999@www.gpgolf.ca
SUMMARY:High School Zone Championships
DESCRIPTION:High School Zone Championships
URL:https://www.gpgolf.ca/event/high-school-zone-championships/
END:VEVENT
BEGIN:VEVENT
DTSTART;VALUE=DATE:20200910
DTEND;VALUE=DATE:20200911
DTSTAMP:20260419T224026
CREATED:20200729T183734Z
LAST-MODIFIED:20200729T183734Z
UID:1612-1599696000-1599782399@www.gpgolf.ca
SUMMARY:Sunrise/ Odyssey House Golf Event
DESCRIPTION:Sunrise/ Odyssey House Golf Event
URL:https://www.gpgolf.ca/event/sunrise-odyssey-house-golf-event/
END:VEVENT
BEGIN:VEVENT
DTSTART;VALUE=DATE:20200908
DTEND;VALUE=DATE:20200909
DTSTAMP:20260419T224026
CREATED:20200729T183655Z
LAST-MODIFIED:20200729T183655Z
UID:1609-1599523200-1599609599@www.gpgolf.ca
SUMMARY:Teachers' Breakfast
DESCRIPTION:Teachers’ Breakfast
URL:https://www.gpgolf.ca/event/teachers-breakfast/
END:VEVENT
END:VCALENDAR