BEGIN:VCALENDAR
VERSION:2.0
PRODID:-//Grande Prairie Golf &amp; Country Club - ECPv6.15.14//NONSGML v1.0//EN
CALSCALE:GREGORIAN
METHOD:PUBLISH
X-WR-CALNAME:Grande Prairie Golf &amp; Country Club
X-ORIGINAL-URL:https://www.gpgolf.ca
X-WR-CALDESC:Events for Grande Prairie Golf &amp; Country Club
REFRESH-INTERVAL;VALUE=DURATION:PT1H
X-Robots-Tag:noindex
X-PUBLISHED-TTL:PT1H
BEGIN:VTIMEZONE
TZID:UTC
BEGIN:STANDARD
TZOFFSETFROM:+0000
TZOFFSETTO:+0000
TZNAME:UTC
DTSTART:20210101T000000
END:STANDARD
END:VTIMEZONE
BEGIN:VEVENT
DTSTART;TZID=UTC:20240618T123000
DTEND;TZID=UTC:20240618T163000
DTSTAMP:20260419T211804
CREATED:20240418T165403Z
LAST-MODIFIED:20240418T165403Z
UID:2868-1718713800-1718728200@www.gpgolf.ca
SUMMARY:Callaway Demo Day
DESCRIPTION:Callaway Demo Day\nDriving Range – 12:30 – 4:30
URL:https://www.gpgolf.ca/event/callaway-demo-day/
END:VEVENT
BEGIN:VEVENT
DTSTART;VALUE=DATE:20240613
DTEND;VALUE=DATE:20240615
DTSTAMP:20260419T211804
CREATED:20240418T165306Z
LAST-MODIFIED:20240418T165306Z
UID:2865-1718236800-1718409599@www.gpgolf.ca
SUMMARY:Odyssey/ Sunrise House
DESCRIPTION:Odyssey/ Sunrise House
URL:https://www.gpgolf.ca/event/odyssey-sunrise-house/
END:VEVENT
BEGIN:VEVENT
DTSTART;VALUE=DATE:20240607
DTEND;VALUE=DATE:20240608
DTSTAMP:20260419T211804
CREATED:20240418T165214Z
LAST-MODIFIED:20240418T165214Z
UID:2862-1717718400-1717804799@www.gpgolf.ca
SUMMARY:NWP Classic
DESCRIPTION:NWP Classic
URL:https://www.gpgolf.ca/event/nwp-classic/
END:VEVENT
BEGIN:VEVENT
DTSTART;VALUE=DATE:20240522
DTEND;VALUE=DATE:20240523
DTSTAMP:20260419T211804
CREATED:20240326T215835Z
LAST-MODIFIED:20240326T220538Z
UID:2844-1716336000-1716422399@www.gpgolf.ca
SUMMARY:Ping Demo Day
DESCRIPTION:
URL:https://www.gpgolf.ca/event/ping-demo-day/
END:VEVENT
BEGIN:VEVENT
DTSTART;TZID=UTC:20240512T100000
DTEND;TZID=UTC:20240512T140000
DTSTAMP:20260419T211804
CREATED:20240326T194529Z
LAST-MODIFIED:20240326T205348Z
UID:2841-1715508000-1715522400@www.gpgolf.ca
SUMMARY:Mother's Day Brunch
DESCRIPTION:
URL:https://www.gpgolf.ca/event/mothers-day-brunch/
END:VEVENT
BEGIN:VEVENT
DTSTART;TZID=UTC:20240419T180000
DTEND;TZID=UTC:20240419T233000
DTSTAMP:20260419T211804
CREATED:20240326T182115Z
LAST-MODIFIED:20240326T182200Z
UID:2837-1713549600-1713569400@www.gpgolf.ca
SUMMARY:Wine Night
DESCRIPTION:Wine Night \nApril 19th @ 6:00 p.m. \nAt the Clubhouse \nFor tickets call 780-532-0340
URL:https://www.gpgolf.ca/event/wine-night/
END:VEVENT
BEGIN:VEVENT
DTSTART;VALUE=DATE:20230930
DTEND;VALUE=DATE:20231001
DTSTAMP:20260419T211804
CREATED:20230215T221614Z
LAST-MODIFIED:20230215T221614Z
UID:2463-1696032000-1696118399@www.gpgolf.ca
SUMMARY:The Grinder
DESCRIPTION:The Grinder
URL:https://www.gpgolf.ca/event/the-grinder-2/
END:VEVENT
BEGIN:VEVENT
DTSTART;VALUE=DATE:20230901
DTEND;VALUE=DATE:20230905
DTSTAMP:20260419T211804
CREATED:20230215T221505Z
LAST-MODIFIED:20230215T221541Z
UID:2460-1693526400-1693871999@www.gpgolf.ca
SUMMARY:Men's Open
DESCRIPTION:Men’s Open
URL:https://www.gpgolf.ca/event/mens-open-2/
END:VEVENT
BEGIN:VEVENT
DTSTART;VALUE=DATE:20230810
DTEND;VALUE=DATE:20230813
DTSTAMP:20260419T211804
CREATED:20230215T221435Z
LAST-MODIFIED:20230215T221435Z
UID:2457-1691625600-1691884799@www.gpgolf.ca
SUMMARY:GPPA Oilman's Tournament
DESCRIPTION:GPPA Oilman’s Tournament
URL:https://www.gpgolf.ca/event/gppa-oilmans-tournament/
END:VEVENT
BEGIN:VEVENT
DTSTART;VALUE=DATE:20230724
DTEND;VALUE=DATE:20230726
DTSTAMP:20260419T211804
CREATED:20230215T221336Z
LAST-MODIFIED:20230215T221336Z
UID:2454-1690156800-1690329599@www.gpgolf.ca
SUMMARY:Junior Open Grande Prairie
DESCRIPTION:Junior Open Grande Prairie
URL:https://www.gpgolf.ca/event/junior-open-grande-prairie/
END:VEVENT
BEGIN:VEVENT
DTSTART;VALUE=DATE:20230715
DTEND;VALUE=DATE:20230716
DTSTAMP:20260419T211804
CREATED:20230215T221255Z
LAST-MODIFIED:20230215T221255Z
UID:2451-1689379200-1689465599@www.gpgolf.ca
SUMMARY:Ladies Open
DESCRIPTION:Ladies Open
URL:https://www.gpgolf.ca/event/ladies-open-2/
END:VEVENT
BEGIN:VEVENT
DTSTART;TZID=UTC:20230624T120000
DTEND;TZID=UTC:20230624T233000
DTSTAMP:20260419T211804
CREATED:20230215T212737Z
LAST-MODIFIED:20230215T212951Z
UID:2420-1687608000-1687649400@www.gpgolf.ca
SUMMARY:Couples Classic - presented by Boston Pizza
DESCRIPTION:Couples Classic – presented by Boston Pizza \nTESTING
URL:https://www.gpgolf.ca/event/couples-classic-presented-by-boston-pizza/
END:VEVENT
BEGIN:VEVENT
DTSTART;VALUE=DATE:20230617
DTEND;VALUE=DATE:20230619
DTSTAMP:20260419T211804
CREATED:20230215T221156Z
LAST-MODIFIED:20230215T221214Z
UID:2448-1686960000-1687132799@www.gpgolf.ca
SUMMARY:Club Championship
DESCRIPTION:Club Championship
URL:https://www.gpgolf.ca/event/club-championship-4/
END:VEVENT
BEGIN:VEVENT
DTSTART;VALUE=DATE:20230609
DTEND;VALUE=DATE:20230610
DTSTAMP:20260419T211804
CREATED:20230215T221118Z
LAST-MODIFIED:20230215T221118Z
UID:2445-1686268800-1686355199@www.gpgolf.ca
SUMMARY:Odyssey House Tournament
DESCRIPTION:Odyssey House Tournament
URL:https://www.gpgolf.ca/event/odyssey-house-tournament/
END:VEVENT
BEGIN:VEVENT
DTSTART;TZID=UTC:20230603T080000
DTEND;TZID=UTC:20230603T170000
DTSTAMP:20260419T211804
CREATED:20230215T221046Z
LAST-MODIFIED:20230215T221046Z
UID:2442-1685779200-1685811600@www.gpgolf.ca
SUMMARY:Ladies Classic
DESCRIPTION:Ladies Classic
URL:https://www.gpgolf.ca/event/ladies-classic-3/
END:VEVENT
BEGIN:VEVENT
DTSTART;VALUE=DATE:20230503
DTEND;VALUE=DATE:20230504
DTSTAMP:20260419T211804
CREATED:20230215T220952Z
LAST-MODIFIED:20230215T220952Z
UID:2439-1683072000-1683158399@www.gpgolf.ca
SUMMARY:First Men's Night AND Ping Demo Day
DESCRIPTION:First Men’s Night AND Ping Demo Day
URL:https://www.gpgolf.ca/event/first-mens-night-and-ping-demo-day/
END:VEVENT
BEGIN:VEVENT
DTSTART;TZID=UTC:20230421T180000
DTEND;TZID=UTC:20230421T233000
DTSTAMP:20260419T211804
CREATED:20230215T220910Z
LAST-MODIFIED:20230215T220910Z
UID:2436-1682100000-1682119800@www.gpgolf.ca
SUMMARY:Blind Wine Tasting
DESCRIPTION:Blind Wine Tasting
URL:https://www.gpgolf.ca/event/blind-wine-tasting-2/
END:VEVENT
BEGIN:VEVENT
DTSTART;VALUE=DATE:20221001
DTEND;VALUE=DATE:20221002
DTSTAMP:20260419T211804
CREATED:20220118T163000Z
LAST-MODIFIED:20220118T163000Z
UID:1904-1664582400-1664668799@www.gpgolf.ca
SUMMARY:The Grinder Cash Scramble Tournament
DESCRIPTION:The Grinder Cash Scramble Tournament
URL:https://www.gpgolf.ca/event/the-grinder-cash-scramble-tournament/
LOCATION:Grande Prairie Golf & Country Club\, 711040 Resources Road\, Grande Prairie\, Alberta\, T8V 3A7\, Canada
END:VEVENT
BEGIN:VEVENT
DTSTART;VALUE=DATE:20220903
DTEND;VALUE=DATE:20220906
DTSTAMP:20260419T211804
CREATED:20220118T162916Z
LAST-MODIFIED:20220803T162652Z
UID:1901-1662163200-1662422399@www.gpgolf.ca
SUMMARY:Men's Open Tournament
DESCRIPTION:Men’s Open Tournament
URL:https://www.gpgolf.ca/event/mens-open-tournament-2/
LOCATION:Grande Prairie Golf & Country Club\, 711040 Resources Road\, Grande Prairie\, Alberta\, T8V 3A7\, Canada
END:VEVENT
BEGIN:VEVENT
DTSTART;VALUE=DATE:20220822
DTEND;VALUE=DATE:20220823
DTSTAMP:20260419T211804
CREATED:20220815T154638Z
LAST-MODIFIED:20220815T154638Z
UID:2205-1661126400-1661212799@www.gpgolf.ca
SUMMARY:Grandma's Tournament
DESCRIPTION:
URL:https://www.gpgolf.ca/event/grandmas-tournament-5/
END:VEVENT
BEGIN:VEVENT
DTSTART;VALUE=DATE:20220815
DTEND;VALUE=DATE:20220816
DTSTAMP:20260419T211804
CREATED:20220117T211831Z
LAST-MODIFIED:20220803T162213Z
UID:1892-1660521600-1660607999@www.gpgolf.ca
SUMMARY:Seniors' Open Tournament
DESCRIPTION:Seniors’ Open Tournament
URL:https://www.gpgolf.ca/event/seniors-open-tournament-2/
LOCATION:Grande Prairie Golf & Country Club\, 711040 Resources Road\, Grande Prairie\, Alberta\, T8V 3A7\, Canada
END:VEVENT
BEGIN:VEVENT
DTSTART;VALUE=DATE:20220814
DTEND;VALUE=DATE:20220815
DTSTAMP:20260419T211804
CREATED:20220118T162839Z
LAST-MODIFIED:20220118T162839Z
UID:1898-1660435200-1660521599@www.gpgolf.ca
SUMMARY:Ladies Interclub
DESCRIPTION:Ladies Interclub
URL:https://www.gpgolf.ca/event/ladies-interclub/
END:VEVENT
BEGIN:VEVENT
DTSTART;VALUE=DATE:20220725
DTEND;VALUE=DATE:20220727
DTSTAMP:20260419T211804
CREATED:20220117T211902Z
LAST-MODIFIED:20220117T211943Z
UID:1895-1658707200-1658879999@www.gpgolf.ca
SUMMARY:Juniors' Open
DESCRIPTION:Juniors’ Open
URL:https://www.gpgolf.ca/event/juniors-open/
LOCATION:Grande Prairie Golf & Country Club\, 711040 Resources Road\, Grande Prairie\, Alberta\, T8V 3A7\, Canada
END:VEVENT
BEGIN:VEVENT
DTSTART;VALUE=DATE:20220716
DTEND;VALUE=DATE:20220718
DTSTAMP:20260419T211804
CREATED:20220117T211738Z
LAST-MODIFIED:20220117T211747Z
UID:1889-1657929600-1658102399@www.gpgolf.ca
SUMMARY:Ladies Open Tournament
DESCRIPTION:Ladies Open Tournament
URL:https://www.gpgolf.ca/event/ladies-open-tournament/
LOCATION:Grande Prairie Golf & Country Club\, 711040 Resources Road\, Grande Prairie\, Alberta\, T8V 3A7\, Canada
END:VEVENT
BEGIN:VEVENT
DTSTART;VALUE=DATE:20220625
DTEND;VALUE=DATE:20220626
DTSTAMP:20260419T211804
CREATED:20220117T211655Z
LAST-MODIFIED:20220117T211655Z
UID:1886-1656115200-1656201599@www.gpgolf.ca
SUMMARY:Couples' Classic Tournament
DESCRIPTION:Couples’ Classic Tournament
URL:https://www.gpgolf.ca/event/couples-classic-tournament/
LOCATION:Grande Prairie Golf & Country Club\, 711040 Resources Road\, Grande Prairie\, Alberta\, T8V 3A7\, Canada
END:VEVENT
BEGIN:VEVENT
DTSTART;VALUE=DATE:20220618
DTEND;VALUE=DATE:20220619
DTSTAMP:20260419T211804
CREATED:20220117T211551Z
LAST-MODIFIED:20220117T211612Z
UID:1883-1655510400-1655596799@www.gpgolf.ca
SUMMARY:Club Championship
DESCRIPTION:Club Championship
URL:https://www.gpgolf.ca/event/club-championship-3/
END:VEVENT
BEGIN:VEVENT
DTSTART;VALUE=DATE:20220613
DTEND;VALUE=DATE:20220614
DTSTAMP:20260419T211804
CREATED:20220117T211517Z
LAST-MODIFIED:20220118T163314Z
UID:1880-1655078400-1655164799@www.gpgolf.ca
SUMMARY:Ladies Interclub Championship
DESCRIPTION:Ladies Interclub Championship
URL:https://www.gpgolf.ca/event/ladies-interclub-championship/
LOCATION:Grande Prairie Golf & Country Club\, 711040 Resources Road\, Grande Prairie\, Alberta\, T8V 3A7\, Canada
END:VEVENT
BEGIN:VEVENT
DTSTART;VALUE=DATE:20220611
DTEND;VALUE=DATE:20220612
DTSTAMP:20260419T211804
CREATED:20220422T153537Z
LAST-MODIFIED:20220422T153537Z
UID:2096-1654905600-1654991999@www.gpgolf.ca
SUMMARY:Spring Classic Cash Scramble
DESCRIPTION:Spring Classic Cash Scramble
URL:https://www.gpgolf.ca/event/spring-classic-cash-scramble/
END:VEVENT
BEGIN:VEVENT
DTSTART;VALUE=DATE:20220604
DTEND;VALUE=DATE:20220605
DTSTAMP:20260419T211804
CREATED:20220117T211410Z
LAST-MODIFIED:20220420T172408Z
UID:1876-1654300800-1654387199@www.gpgolf.ca
SUMMARY:Ladies' Classic Tournament
DESCRIPTION:Ladies’ Classic Tournament\n1 p.m. Shotgun
URL:https://www.gpgolf.ca/event/ladies-classic-tournament-2/
END:VEVENT
BEGIN:VEVENT
DTSTART;VALUE=DATE:20220518
DTEND;VALUE=DATE:20220520
DTSTAMP:20260419T211804
CREATED:20220117T211252Z
LAST-MODIFIED:20220117T211435Z
UID:1873-1652832000-1653004799@www.gpgolf.ca
SUMMARY:Peace Region Energy Show
DESCRIPTION:Peace Region Energy Show
URL:https://www.gpgolf.ca/event/peace-region-energy-show/
END:VEVENT
END:VCALENDAR