BEGIN:VCALENDAR
VERSION:2.0
PRODID:-//Grande Prairie Golf &amp; Country Club - ECPv6.15.14//NONSGML v1.0//EN
CALSCALE:GREGORIAN
METHOD:PUBLISH
X-WR-CALNAME:Grande Prairie Golf &amp; Country Club
X-ORIGINAL-URL:https://www.gpgolf.ca
X-WR-CALDESC:Events for Grande Prairie Golf &amp; Country Club
REFRESH-INTERVAL;VALUE=DURATION:PT1H
X-Robots-Tag:noindex
X-PUBLISHED-TTL:PT1H
BEGIN:VTIMEZONE
TZID:UTC
BEGIN:STANDARD
TZOFFSETFROM:+0000
TZOFFSETTO:+0000
TZNAME:UTC
DTSTART:20230101T000000
END:STANDARD
END:VTIMEZONE
BEGIN:VEVENT
DTSTART;VALUE=DATE:20250621
DTEND;VALUE=DATE:20250622
DTSTAMP:20260419T163556
CREATED:20250403T172524Z
LAST-MODIFIED:20250403T172524Z
UID:3353-1750464000-1750550399@www.gpgolf.ca
SUMMARY:Boston Pizza Couples Classic
DESCRIPTION:Boston Pizza Couples Classic \nNoon
URL:https://www.gpgolf.ca/event/boston-pizza-couples-classic-3/
LOCATION:Alberta
CATEGORIES:Tournament
END:VEVENT
BEGIN:VEVENT
DTSTART;TZID=UTC:20250619T103000
DTEND;TZID=UTC:20250619T230000
DTSTAMP:20260419T163556
CREATED:20250403T172237Z
LAST-MODIFIED:20250403T172237Z
UID:3344-1750329000-1750374000@www.gpgolf.ca
SUMMARY:Sunlife
DESCRIPTION:Sunlife \n10:30 start
URL:https://www.gpgolf.ca/event/sunlife/
LOCATION:Alberta
CATEGORIES:Private,Tournament
END:VEVENT
BEGIN:VEVENT
DTSTART;TZID=UTC:20250618T123000
DTEND;TZID=UTC:20250618T163000
DTSTAMP:20260419T163556
CREATED:20250403T172437Z
LAST-MODIFIED:20250403T172437Z
UID:3350-1750249800-1750264200@www.gpgolf.ca
SUMMARY:Callaway Demo Day
DESCRIPTION:Callaway Demo Day \nDriving Range \n12:30 to 4:30
URL:https://www.gpgolf.ca/event/callaway-demo-day-2/
LOCATION:Alberta
CATEGORIES:Public
END:VEVENT
BEGIN:VEVENT
DTSTART;VALUE=DATE:20250618
DTEND;VALUE=DATE:20250619
DTSTAMP:20260419T163556
CREATED:20250403T172655Z
LAST-MODIFIED:20250403T172655Z
UID:3356-1750204800-1750291199@www.gpgolf.ca
SUMMARY:Fidelity Insurance
DESCRIPTION:Fidelity Insurance
URL:https://www.gpgolf.ca/event/fidelity-insurance/
LOCATION:Alberta
CATEGORIES:Private,Tournament
END:VEVENT
BEGIN:VEVENT
DTSTART;VALUE=DATE:20250614
DTEND;VALUE=DATE:20250616
DTSTAMP:20260419T163556
CREATED:20250403T171608Z
LAST-MODIFIED:20250403T171608Z
UID:3341-1749859200-1750031999@www.gpgolf.ca
SUMMARY:Club Championship
DESCRIPTION:Club Championship \nMorning Tee Times \nFirst out 9:00 a.m.
URL:https://www.gpgolf.ca/event/club-championship-6/
LOCATION:Grande Prairie Golf & Country Club\, 711040 Resources Road\, Grande Prairie\, Alberta\, T8V 3A7\, Canada
CATEGORIES:Members Only,Tournament
END:VEVENT
BEGIN:VEVENT
DTSTART;TZID=UTC:20250612T080000
DTEND;TZID=UTC:20250612T170000
DTSTAMP:20260419T163556
CREATED:20250403T170717Z
LAST-MODIFIED:20250403T170717Z
UID:3331-1749715200-1749747600@www.gpgolf.ca
SUMMARY:Callaway Demo Days
DESCRIPTION:Callaway Demo Days \n1:00 – 5:00 p.m. \nDriving Range
URL:https://www.gpgolf.ca/event/callaway-demo-days/
LOCATION:Alberta
END:VEVENT
BEGIN:VEVENT
DTSTART;VALUE=DATE:20250612
DTEND;VALUE=DATE:20250614
DTSTAMP:20260419T163556
CREATED:20250403T171435Z
LAST-MODIFIED:20250403T171435Z
UID:3337-1749686400-1749859199@www.gpgolf.ca
SUMMARY:Odyssey/ Sunrise House
DESCRIPTION:Odyssey/ Sunrise House \n11 a.m. Shotgun \nVIP Night & Dinner
URL:https://www.gpgolf.ca/event/odyssey-sunrise-house-2/
LOCATION:Grande Prairie Golf & Country Club\, 711040 Resources Road\, Grande Prairie\, Alberta\, T8V 3A7\, Canada
CATEGORIES:Private,Tournament
END:VEVENT
BEGIN:VEVENT
DTSTART;VALUE=DATE:20250606
DTEND;VALUE=DATE:20250607
DTSTAMP:20260419T163556
CREATED:20250403T170632Z
LAST-MODIFIED:20250403T170632Z
UID:3328-1749168000-1749254399@www.gpgolf.ca
SUMMARY:NWP Classic
DESCRIPTION:NWP Classic \n11 a.m. Shotgun followed by dinner & Deck Party
URL:https://www.gpgolf.ca/event/nwp-classic-2/
LOCATION:Alberta
END:VEVENT
BEGIN:VEVENT
DTSTART;VALUE=DATE:20250605
DTEND;VALUE=DATE:20250606
DTSTAMP:20260419T163556
CREATED:20250403T170503Z
LAST-MODIFIED:20250403T170503Z
UID:3325-1749081600-1749167999@www.gpgolf.ca
SUMMARY:Bearcom Communication
DESCRIPTION:Bearcom Communication \n9 a.m. shotgun\, dinner to follow
URL:https://www.gpgolf.ca/event/bearcom-communication/
LOCATION:Alberta
END:VEVENT
BEGIN:VEVENT
DTSTART;VALUE=DATE:20250604
DTEND;VALUE=DATE:20250605
DTSTAMP:20260419T163556
CREATED:20250403T170416Z
LAST-MODIFIED:20250403T170416Z
UID:3322-1748995200-1749081599@www.gpgolf.ca
SUMMARY:ARHCA
DESCRIPTION:ARHCA \n9 a.m. modified shotgun
URL:https://www.gpgolf.ca/event/arhca/
LOCATION:Alberta
CATEGORIES:Private,Tournament
END:VEVENT
BEGIN:VEVENT
DTSTART;TZID=UTC:20250531T130000
DTEND;TZID=UTC:20250531T230000
DTSTAMP:20260419T163556
CREATED:20250403T170119Z
LAST-MODIFIED:20250403T170119Z
UID:3319-1748696400-1748732400@www.gpgolf.ca
SUMMARY:Ladies Classic
DESCRIPTION:Ladies Classic \n1:00 p.m. Shotgun
URL:https://www.gpgolf.ca/event/ladies-classic-4/
LOCATION:Alberta
CATEGORIES:Tournament
END:VEVENT
BEGIN:VEVENT
DTSTART;TZID=UTC:20250529T080000
DTEND;TZID=UTC:20250529T170000
DTSTAMP:20260419T163556
CREATED:20250403T165737Z
LAST-MODIFIED:20250403T165737Z
UID:3316-1748505600-1748538000@www.gpgolf.ca
SUMMARY:D-Now Golf & Dinner
DESCRIPTION:D-Now Golf & Dinner \n10:00 a.m. shotgun\, dinner to follow
URL:https://www.gpgolf.ca/event/d-now-golf-dinner/
LOCATION:Grande Prairie Golf & Country Club\, 711040 Resources Road\, Grande Prairie\, Alberta\, T8V 3A7\, Canada
CATEGORIES:Private,Tournament
END:VEVENT
BEGIN:VEVENT
DTSTART;TZID=UTC:20250515T130000
DTEND;TZID=UTC:20250515T160000
DTSTAMP:20260419T163556
CREATED:20250403T165609Z
LAST-MODIFIED:20250403T165609Z
UID:3313-1747314000-1747324800@www.gpgolf.ca
SUMMARY:Ping Demo Day
DESCRIPTION:Ping Demo Day
URL:https://www.gpgolf.ca/event/ping-demo-day-2/
LOCATION:Grande Prairie Golf & Country Club\, 711040 Resources Road\, Grande Prairie\, Alberta\, T8V 3A7\, Canada
END:VEVENT
BEGIN:VEVENT
DTSTART;TZID=UTC:20250415T140000
DTEND;TZID=UTC:20250415T153000
DTSTAMP:20260419T163556
CREATED:20250403T165459Z
LAST-MODIFIED:20250403T165459Z
UID:3310-1744725600-1744731000@www.gpgolf.ca
SUMMARY:The Academy - Intro to the GPGCC
DESCRIPTION:The Academy – Intro to the GPGCC \n2:00 – 3:30 p.m. – Legends Restaurant
URL:https://www.gpgolf.ca/event/the-academy-intro-to-the-gpgcc/
LOCATION:Legends Lounge
END:VEVENT
BEGIN:VEVENT
DTSTART;TZID=UTC:20241003T080000
DTEND;TZID=UTC:20241003T080000
DTSTAMP:20260419T163556
CREATED:20241003T171219Z
LAST-MODIFIED:20241003T182143Z
UID:3117-1727942400-1727942400@www.gpgolf.ca
SUMMARY:.
DESCRIPTION:..
URL:https://www.gpgolf.ca/event/3117/
LOCATION:Alberta
END:VEVENT
BEGIN:VEVENT
DTSTART;VALUE=DATE:20240928
DTEND;VALUE=DATE:20240929
DTSTAMP:20260419T163556
CREATED:20240418T173404Z
LAST-MODIFIED:20241003T171032Z
UID:2937-1727481600-1727567999@www.gpgolf.ca
SUMMARY:The Grinder Cash Scramble
DESCRIPTION:The Grinder Cash Scramble Tournament
URL:https://www.gpgolf.ca/event/the-grinder-cash-scramble-2/
LOCATION:Alberta
END:VEVENT
BEGIN:VEVENT
DTSTART;VALUE=DATE:20240923
DTEND;VALUE=DATE:20240925
DTSTAMP:20260419T163556
CREATED:20240418T173328Z
LAST-MODIFIED:20240418T173328Z
UID:2934-1727049600-1727222399@www.gpgolf.ca
SUMMARY:AHSAA Provincial Championship
DESCRIPTION:AHSAA Provincial Championship
URL:https://www.gpgolf.ca/event/ahsaa-provincial-championship/
LOCATION:Alberta
END:VEVENT
BEGIN:VEVENT
DTSTART;VALUE=DATE:20240917
DTEND;VALUE=DATE:20240918
DTSTAMP:20260419T163556
CREATED:20240418T173221Z
LAST-MODIFIED:20240418T173221Z
UID:2931-1726531200-1726617599@www.gpgolf.ca
SUMMARY:The Foley Cup
DESCRIPTION:The Foley Cup
URL:https://www.gpgolf.ca/event/the-foley-cup/
LOCATION:Alberta
END:VEVENT
BEGIN:VEVENT
DTSTART;TZID=UTC:20240910T180000
DTEND;TZID=UTC:20240910T233000
DTSTAMP:20260419T163556
CREATED:20240418T173143Z
LAST-MODIFIED:20240418T173143Z
UID:2928-1725991200-1726011000@www.gpgolf.ca
SUMMARY:Ladies Social League Wind Up Dinner
DESCRIPTION:Ladies Social League Wind Up Dinner
URL:https://www.gpgolf.ca/event/ladies-social-league-wind-up-dinner/
LOCATION:Alberta
END:VEVENT
BEGIN:VEVENT
DTSTART;VALUE=DATE:20240831
DTEND;VALUE=DATE:20240903
DTSTAMP:20260419T163556
CREATED:20240418T172651Z
LAST-MODIFIED:20240418T172651Z
UID:2925-1725062400-1725321599@www.gpgolf.ca
SUMMARY:Grande Prairie Men's Open
DESCRIPTION:Grande Prairie Men’s Open
URL:https://www.gpgolf.ca/event/grande-prairie-mens-open-2/
LOCATION:Alberta
END:VEVENT
BEGIN:VEVENT
DTSTART;VALUE=DATE:20240829
DTEND;VALUE=DATE:20240831
DTSTAMP:20260419T163556
CREATED:20240418T172610Z
LAST-MODIFIED:20240418T172610Z
UID:2922-1724889600-1725062399@www.gpgolf.ca
SUMMARY:Crown Ladies Skins Championship
DESCRIPTION:Crown Ladies Skins Championship
URL:https://www.gpgolf.ca/event/crown-ladies-skins-championship/
LOCATION:Alberta
END:VEVENT
BEGIN:VEVENT
DTSTART;VALUE=DATE:20240826
DTEND;VALUE=DATE:20240827
DTSTAMP:20260419T163556
CREATED:20240418T172520Z
LAST-MODIFIED:20240418T172520Z
UID:2919-1724630400-1724716799@www.gpgolf.ca
SUMMARY:PCJT Tour Championship
DESCRIPTION:PCJT Tour Championship
URL:https://www.gpgolf.ca/event/pcjt-tour-championship/
LOCATION:Alberta
END:VEVENT
BEGIN:VEVENT
DTSTART;VALUE=DATE:20240825
DTEND;VALUE=DATE:20240826
DTSTAMP:20260419T163556
CREATED:20240418T172432Z
LAST-MODIFIED:20240418T172432Z
UID:2916-1724544000-1724630399@www.gpgolf.ca
SUMMARY:Ladies Interclub
DESCRIPTION:Ladies Interclub
URL:https://www.gpgolf.ca/event/ladies-interclub-3/
LOCATION:Alberta
END:VEVENT
BEGIN:VEVENT
DTSTART;TZID=UTC:20240823T180000
DTEND;TZID=UTC:20240823T233000
DTSTAMP:20260419T163556
CREATED:20240418T172326Z
LAST-MODIFIED:20240418T172326Z
UID:2910-1724436000-1724455800@www.gpgolf.ca
SUMMARY:DECK PARTY
DESCRIPTION:DECK PARTY
URL:https://www.gpgolf.ca/event/deck-party-3/
LOCATION:Alberta
END:VEVENT
BEGIN:VEVENT
DTSTART;VALUE=DATE:20240823
DTEND;VALUE=DATE:20240824
DTSTAMP:20260419T163556
CREATED:20240418T172403Z
LAST-MODIFIED:20240418T172403Z
UID:2913-1724371200-1724457599@www.gpgolf.ca
SUMMARY:Grande Prairie Fire Department Event
DESCRIPTION:Grande Prairie Fire Department Event
URL:https://www.gpgolf.ca/event/grande-prairie-fire-department-event/
LOCATION:Alberta
END:VEVENT
BEGIN:VEVENT
DTSTART;VALUE=DATE:20240819
DTEND;VALUE=DATE:20240820
DTSTAMP:20260419T163556
CREATED:20240418T172244Z
LAST-MODIFIED:20240418T172244Z
UID:2907-1724025600-1724111999@www.gpgolf.ca
SUMMARY:Grandma's Tournament
DESCRIPTION:Grandma’s Tournament
URL:https://www.gpgolf.ca/event/grandmas-tournament-6/
LOCATION:Alberta
END:VEVENT
BEGIN:VEVENT
DTSTART;VALUE=DATE:20240814
DTEND;VALUE=DATE:20240816
DTSTAMP:20260419T163556
CREATED:20240418T172059Z
LAST-MODIFIED:20240418T172059Z
UID:2904-1723593600-1723766399@www.gpgolf.ca
SUMMARY:Crown Challenge
DESCRIPTION:Crown Challenge
URL:https://www.gpgolf.ca/event/crown-challenge/
LOCATION:Alberta
END:VEVENT
BEGIN:VEVENT
DTSTART;VALUE=DATE:20240808
DTEND;VALUE=DATE:20240810
DTSTAMP:20260419T163556
CREATED:20240418T171908Z
LAST-MODIFIED:20240418T171908Z
UID:2901-1723075200-1723247999@www.gpgolf.ca
SUMMARY:GPPA Oilmens Golf Event
DESCRIPTION:GPPA Oilmens Golf Event
URL:https://www.gpgolf.ca/event/gppa-oilmens-golf-event-2/
LOCATION:Alberta
END:VEVENT
BEGIN:VEVENT
DTSTART;VALUE=DATE:20240729
DTEND;VALUE=DATE:20240731
DTSTAMP:20260419T163556
CREATED:20240418T165950Z
LAST-MODIFIED:20240418T165950Z
UID:2892-1722211200-1722383999@www.gpgolf.ca
SUMMARY:Junior Open
DESCRIPTION:Junior Open
URL:https://www.gpgolf.ca/event/junior-open-2/
LOCATION:Alberta
END:VEVENT
BEGIN:VEVENT
DTSTART;VALUE=DATE:20240729
DTEND;VALUE=DATE:20240730
DTSTAMP:20260419T163556
CREATED:20240418T170441Z
LAST-MODIFIED:20240418T170441Z
UID:2895-1722211200-1722297599@www.gpgolf.ca
SUMMARY:GP Junior Wee Linkers/ PCJT/ McLennan Ross 2 Day Major
DESCRIPTION:GP Junior Wee Linkers/ PCJT/ McLennan Ross 2 Day Major
URL:https://www.gpgolf.ca/event/gp-junior-wee-linkers-pcjt-mclennan-ross-2-day-major/
LOCATION:Alberta
END:VEVENT
END:VCALENDAR