BEGIN:VCALENDAR
VERSION:2.0
PRODID:-//Grande Prairie Golf &amp; Country Club - ECPv6.15.14//NONSGML v1.0//EN
CALSCALE:GREGORIAN
METHOD:PUBLISH
X-WR-CALNAME:Grande Prairie Golf &amp; Country Club
X-ORIGINAL-URL:https://www.gpgolf.ca
X-WR-CALDESC:Events for Grande Prairie Golf &amp; Country Club
REFRESH-INTERVAL;VALUE=DURATION:PT1H
X-Robots-Tag:noindex
X-PUBLISHED-TTL:PT1H
BEGIN:VTIMEZONE
TZID:UTC
BEGIN:STANDARD
TZOFFSETFROM:+0000
TZOFFSETTO:+0000
TZNAME:UTC
DTSTART:20180101T000000
END:STANDARD
END:VTIMEZONE
BEGIN:VEVENT
DTSTART;TZID=UTC:20190320T110000
DTEND;TZID=UTC:20190320T140000
DTSTAMP:20260423T053203
CREATED:20190312T224621Z
LAST-MODIFIED:20190312T225739Z
UID:990-1553079600-1553090400@www.gpgolf.ca
SUMMARY:Grande Prairie Real Estate Association Lunch & Learn
DESCRIPTION:Grande Prairie Real Estate Association Lunch & Learn
URL:https://www.gpgolf.ca/event/grande-prairie-real-estate-association-lunch-learn/
END:VEVENT
BEGIN:VEVENT
DTSTART;VALUE=DATE:20190317
DTEND;VALUE=DATE:20190318
DTSTAMP:20260423T053203
CREATED:20190311T172731Z
LAST-MODIFIED:20190311T172910Z
UID:977-1552780800-1552867199@www.gpgolf.ca
SUMMARY:Private Wedding Shower
DESCRIPTION:
URL:https://www.gpgolf.ca/event/private-wedding-shower/
LOCATION:Legends Lounge
CATEGORIES:Private
END:VEVENT
BEGIN:VEVENT
DTSTART;TZID=UTC:20190314T090000
DTEND;TZID=UTC:20190314T160000
DTSTAMP:20260423T053203
CREATED:20190226T225852Z
LAST-MODIFIED:20190226T230425Z
UID:798-1552554000-1552579200@www.gpgolf.ca
SUMMARY:Sunlife Financial Spring Kickoff
DESCRIPTION:
URL:https://www.gpgolf.ca/event/sunlife-financial-spring-kickoff/
LOCATION:Legends Lounge
CATEGORIES:Private
END:VEVENT
BEGIN:VEVENT
DTSTART;VALUE=DATE:20190216
DTEND;VALUE=DATE:20190217
DTSTAMP:20260423T053203
CREATED:20190118T152637Z
LAST-MODIFIED:20190118T152637Z
UID:643-1550275200-1550361599@www.gpgolf.ca
SUMMARY:Private Wedding
DESCRIPTION:
URL:https://www.gpgolf.ca/event/private-wedding/
CATEGORIES:Private
END:VEVENT
BEGIN:VEVENT
DTSTART;TZID=UTC:20190207T190000
DTEND;TZID=UTC:20190207T190000
DTSTAMP:20260423T053203
CREATED:20190118T141427Z
LAST-MODIFIED:20190118T151539Z
UID:608-1549566000-1549566000@www.gpgolf.ca
SUMMARY:Rotary New Members Fireside Chat
DESCRIPTION:Rotary New Members Fireside Chat\n7:00 p.m. in Legends Lounge
URL:https://www.gpgolf.ca/event/rotary-new-members-fireside-chat/
LOCATION:Legends Lounge
CATEGORIES:Public
END:VEVENT
BEGIN:VEVENT
DTSTART;TZID=UTC:20190124T080000
DTEND;TZID=UTC:20190124T120000
DTSTAMP:20260423T053203
CREATED:20190118T152121Z
LAST-MODIFIED:20190118T152121Z
UID:637-1548316800-1548331200@www.gpgolf.ca
SUMMARY:Aquatera Breakfast Meeting
DESCRIPTION:Aquatera Breakfast Meeting
URL:https://www.gpgolf.ca/event/aquatera-breakfast-meeting/
CATEGORIES:Private
END:VEVENT
BEGIN:VEVENT
DTSTART;TZID=UTC:20190123T190000
DTEND;TZID=UTC:20190123T190000
DTSTAMP:20260423T053203
CREATED:20190118T151811Z
LAST-MODIFIED:20190118T151811Z
UID:635-1548270000-1548270000@www.gpgolf.ca
SUMMARY:GPGCC Annual General Meeting
DESCRIPTION:Our Annual General Meeting is coming up on Wednesday\, January 23\, 2019 beginning at 7:00 p.m.\, and we will be accepting new nominations for Board Members. Please see the below PDF links for further information. If you have any questions\, please contact us at 780-532-0340 \nClick here for the Board of Directors Policy Manual \nClick here for our New Board Member Preparation Document
URL:https://www.gpgolf.ca/event/gpgcc-annual-general-meeting/
CATEGORIES:Public
END:VEVENT
BEGIN:VEVENT
DTSTART;VALUE=DATE:20190119
DTEND;VALUE=DATE:20190120
DTSTAMP:20260423T053203
CREATED:20190118T151624Z
LAST-MODIFIED:20190118T151624Z
UID:633-1547856000-1547942399@www.gpgolf.ca
SUMMARY:Private Wedding Function
DESCRIPTION:
URL:https://www.gpgolf.ca/event/private-wedding-function/
CATEGORIES:Private
END:VEVENT
END:VCALENDAR