BEGIN:VCALENDAR
VERSION:2.0
PRODID:-//Grande Prairie Golf &amp; Country Club - ECPv6.15.14//NONSGML v1.0//EN
CALSCALE:GREGORIAN
METHOD:PUBLISH
X-WR-CALNAME:Grande Prairie Golf &amp; Country Club
X-ORIGINAL-URL:https://www.gpgolf.ca
X-WR-CALDESC:Events for Grande Prairie Golf &amp; Country Club
REFRESH-INTERVAL;VALUE=DURATION:PT1H
X-Robots-Tag:noindex
X-PUBLISHED-TTL:PT1H
BEGIN:VTIMEZONE
TZID:UTC
BEGIN:STANDARD
TZOFFSETFROM:+0000
TZOFFSETTO:+0000
TZNAME:UTC
DTSTART:20180101T000000
END:STANDARD
END:VTIMEZONE
BEGIN:VTIMEZONE
TZID:America/Denver
BEGIN:DAYLIGHT
TZOFFSETFROM:-0700
TZOFFSETTO:-0600
TZNAME:MDT
DTSTART:20180311T090000
END:DAYLIGHT
BEGIN:STANDARD
TZOFFSETFROM:-0600
TZOFFSETTO:-0700
TZNAME:MST
DTSTART:20181104T080000
END:STANDARD
BEGIN:DAYLIGHT
TZOFFSETFROM:-0700
TZOFFSETTO:-0600
TZNAME:MDT
DTSTART:20190310T090000
END:DAYLIGHT
BEGIN:STANDARD
TZOFFSETFROM:-0600
TZOFFSETTO:-0700
TZNAME:MST
DTSTART:20191103T080000
END:STANDARD
BEGIN:DAYLIGHT
TZOFFSETFROM:-0700
TZOFFSETTO:-0600
TZNAME:MDT
DTSTART:20200308T090000
END:DAYLIGHT
BEGIN:STANDARD
TZOFFSETFROM:-0600
TZOFFSETTO:-0700
TZNAME:MST
DTSTART:20201101T080000
END:STANDARD
END:VTIMEZONE
BEGIN:VEVENT
DTSTART;VALUE=DATE:20190905
DTEND;VALUE=DATE:20190906
DTSTAMP:20260423T011625
CREATED:20190227T170504Z
LAST-MODIFIED:20190227T170504Z
UID:855-1567641600-1567727999@www.gpgolf.ca
SUMMARY:7 Gen Golf Event
DESCRIPTION:7 Gen Golf Event
URL:https://www.gpgolf.ca/event/7-gen-golf-event/
LOCATION:Grande Prairie Golf & Country Club\, 711040 Resources Road\, Grande Prairie\, Alberta\, T8V 3A7\, Canada
CATEGORIES:Public,Tournament
END:VEVENT
BEGIN:VEVENT
DTSTART;TZID=UTC:20190830T160000
DTEND;TZID=UTC:20190830T230000
DTSTAMP:20260423T011625
CREATED:20190730T170537Z
LAST-MODIFIED:20190815T171503Z
UID:1129-1567180800-1567206000@www.gpgolf.ca
SUMMARY:Biggest Deck Party of the Year!
DESCRIPTION:Biggest Deck Party of the Year! Come for the fireworks!
URL:https://www.gpgolf.ca/event/biggest-deck-party-of-the-year/
LOCATION:Legends Lounge
END:VEVENT
BEGIN:VEVENT
DTSTART;VALUE=DATE:20190830
DTEND;VALUE=DATE:20190903
DTSTAMP:20260423T011625
CREATED:20190227T170357Z
LAST-MODIFIED:20190710T161134Z
UID:852-1567123200-1567468799@www.gpgolf.ca
SUMMARY:Men's Open Tournament
DESCRIPTION:Men’s Open Tournament
URL:https://www.gpgolf.ca/event/mens-open-tournament/
LOCATION:Grande Prairie Golf & Country Club\, 711040 Resources Road\, Grande Prairie\, Alberta\, T8V 3A7\, Canada
CATEGORIES:Public,Tournament
END:VEVENT
BEGIN:VEVENT
DTSTART;TZID=UTC:20190827T160000
DTEND;TZID=UTC:20190827T160000
DTSTAMP:20260423T011625
CREATED:20190730T170700Z
LAST-MODIFIED:20190730T170700Z
UID:1135-1566921600-1566921600@www.gpgolf.ca
SUMMARY:Final Ladies Social League Evening Golf
DESCRIPTION:
URL:https://www.gpgolf.ca/event/final-ladies-social-league-evening-golf/
END:VEVENT
BEGIN:VEVENT
DTSTART;VALUE=DATE:20190825
DTEND;VALUE=DATE:20190826
DTSTAMP:20260423T011625
CREATED:20190730T170620Z
LAST-MODIFIED:20190730T170620Z
UID:1132-1566691200-1566777599@www.gpgolf.ca
SUMMARY:Ken Sargent GMC 1:00 p.m.
DESCRIPTION:Ken Sargent GMC 1:00 p.m.
URL:https://www.gpgolf.ca/event/ken-sargent-gmc-100-p-m/
LOCATION:Grande Prairie Golf & Country Club\, 711040 Resources Road\, Grande Prairie\, Alberta\, T8V 3A7\, Canada
END:VEVENT
BEGIN:VEVENT
DTSTART;VALUE=DATE:20190824
DTEND;VALUE=DATE:20190825
DTSTAMP:20260423T011625
CREATED:20190227T170302Z
LAST-MODIFIED:20190522T152044Z
UID:849-1566604800-1566691199@www.gpgolf.ca
SUMMARY:Members' Classic Tournament
DESCRIPTION:Members’ Classic Tournament
URL:https://www.gpgolf.ca/event/members-classic-tournament/
CATEGORIES:Members Only,Tournament
END:VEVENT
BEGIN:VEVENT
DTSTART;VALUE=DATE:20190823
DTEND;VALUE=DATE:20190824
DTSTAMP:20260423T011625
CREATED:20190227T170147Z
LAST-MODIFIED:20190227T170147Z
UID:846-1566518400-1566604799@www.gpgolf.ca
SUMMARY:Rotary Tournament
DESCRIPTION:Rotary Tournament
URL:https://www.gpgolf.ca/event/rotary-tournament/
LOCATION:Grande Prairie Golf & Country Club\, 711040 Resources Road\, Grande Prairie\, Alberta\, T8V 3A7\, Canada
END:VEVENT
BEGIN:VEVENT
DTSTART;VALUE=DATE:20190823
DTEND;VALUE=DATE:20190824
DTSTAMP:20260423T011625
CREATED:20190227T170057Z
LAST-MODIFIED:20190227T172044Z
UID:843-1566518400-1566604799@www.gpgolf.ca
SUMMARY:Fletcher Mudryk Tournament
DESCRIPTION:Fletcher Mudryk Tournament
URL:https://www.gpgolf.ca/event/fletcher-mudryk-tournament/
CATEGORIES:Private,Tournament
END:VEVENT
BEGIN:VEVENT
DTSTART;VALUE=DATE:20190821
DTEND;VALUE=DATE:20190823
DTSTAMP:20260423T011625
CREATED:20190730T170416Z
LAST-MODIFIED:20190730T170416Z
UID:1126-1566345600-1566518399@www.gpgolf.ca
SUMMARY:Crown & Anchor Ladies Challenge
DESCRIPTION:Crown & Anchor Ladies Challenge 12:30 p.m.
URL:https://www.gpgolf.ca/event/crown-anchor-ladies-challenge/
LOCATION:Grande Prairie Golf & Country Club\, 711040 Resources Road\, Grande Prairie\, Alberta\, T8V 3A7\, Canada
END:VEVENT
BEGIN:VEVENT
DTSTART;TZID=UTC:20190818T130000
DTEND;TZID=UTC:20190818T130000
DTSTAMP:20260423T011625
CREATED:20190730T165929Z
LAST-MODIFIED:20190730T165929Z
UID:1123-1566133200-1566133200@www.gpgolf.ca
SUMMARY:Ladies Interclub - Tee Time 1 p.m.
DESCRIPTION:
URL:https://www.gpgolf.ca/event/ladies-interclub-tee-time-1-p-m/
END:VEVENT
BEGIN:VEVENT
DTSTART;VALUE=DATE:20190817
DTEND;VALUE=DATE:20190818
DTSTAMP:20260423T011625
CREATED:20190227T165955Z
LAST-MODIFIED:20190227T165955Z
UID:840-1566000000-1566086399@www.gpgolf.ca
SUMMARY:IPAC Tournament
DESCRIPTION:IPAC Tournament
URL:https://www.gpgolf.ca/event/ipac-tournament/
CATEGORIES:Public,Tournament
END:VEVENT
BEGIN:VEVENT
DTSTART;VALUE=DATE:20190815
DTEND;VALUE=DATE:20190816
DTSTAMP:20260423T011625
CREATED:20190227T165910Z
LAST-MODIFIED:20190227T165911Z
UID:837-1565827200-1565913599@www.gpgolf.ca
SUMMARY:Senior's Open Tournament
DESCRIPTION:Senior’s Open Tournament
URL:https://www.gpgolf.ca/event/seniors-open-tournament/
LOCATION:Grande Prairie Golf & Country Club\, 711040 Resources Road\, Grande Prairie\, Alberta\, T8V 3A7\, Canada
CATEGORIES:Public,Tournament
END:VEVENT
BEGIN:VEVENT
DTSTART;VALUE=DATE:20190808
DTEND;VALUE=DATE:20190811
DTSTAMP:20260423T011625
CREATED:20190227T165818Z
LAST-MODIFIED:20190227T165818Z
UID:834-1565222400-1565481599@www.gpgolf.ca
SUMMARY:GPPA Oilmens Tournament
DESCRIPTION:GPPA Oilmens Tournament
URL:https://www.gpgolf.ca/event/gppa-oilmens-tournament/
LOCATION:Grande Prairie Golf & Country Club\, 711040 Resources Road\, Grande Prairie\, Alberta\, T8V 3A7\, Canada
END:VEVENT
BEGIN:VEVENT
DTSTART;TZID=UTC:20190724T140000
DTEND;TZID=UTC:20190724T180000
DTSTAMP:20260423T011625
CREATED:20190529T223935Z
LAST-MODIFIED:20190529T223935Z
UID:1071-1563976800-1563991200@www.gpgolf.ca
SUMMARY:Lululemon Demo Day
DESCRIPTION:Lululemon Demo Day
URL:https://www.gpgolf.ca/event/lululemon-demo-day/
END:VEVENT
BEGIN:VEVENT
DTSTART;VALUE=DATE:20190720
DTEND;VALUE=DATE:20190722
DTSTAMP:20260423T011625
CREATED:20190227T165722Z
LAST-MODIFIED:20190703T174302Z
UID:831-1563580800-1563753599@www.gpgolf.ca
SUMMARY:Ladies' Open Tournament Sponsored by Earls
DESCRIPTION:Ladies’ Open Tournament \nProudly Sponsored by Earls Grande Prairie
URL:https://www.gpgolf.ca/event/earls-girls-ladies-open-tournament/
LOCATION:Grande Prairie Golf & Country Club\, 711040 Resources Road\, Grande Prairie\, Alberta\, T8V 3A7\, Canada
CATEGORIES:Public,Tournament
END:VEVENT
BEGIN:VEVENT
DTSTART;VALUE=DATE:20190718
DTEND;VALUE=DATE:20190719
DTSTAMP:20260423T011625
CREATED:20190227T165512Z
LAST-MODIFIED:20190624T213912Z
UID:828-1563408000-1563494399@www.gpgolf.ca
SUMMARY:KMSC Law Tournament
DESCRIPTION:The 10th Annual KMSC Charity Golf Event will take place this July 18th at the Grande Prairie Golf & Country Club. We received many applications from charities throughout the Peace Region. We hope you will join us in supporting them and learning about their cause. \nTo register for the KMSC Law Tournament\, please click here: REGISTER HERE
URL:https://www.gpgolf.ca/event/kmsc-law-tournament/
LOCATION:Grande Prairie Golf & Country Club\, 711040 Resources Road\, Grande Prairie\, Alberta\, T8V 3A7\, Canada
CATEGORIES:Public,Tournament
END:VEVENT
BEGIN:VEVENT
DTSTART;VALUE=DATE:20190715
DTEND;VALUE=DATE:20190717
DTSTAMP:20260423T011625
CREATED:20190311T180923Z
LAST-MODIFIED:20190311T180924Z
UID:984-1563148800-1563321599@www.gpgolf.ca
SUMMARY:GP Junior Open
DESCRIPTION:GP Junior Open
URL:https://www.gpgolf.ca/event/gp-junior-open/
LOCATION:Grande Prairie Golf & Country Club\, 711040 Resources Road\, Grande Prairie\, Alberta\, T8V 3A7\, Canada
CATEGORIES:Public,Tournament
END:VEVENT
BEGIN:VEVENT
DTSTART;VALUE=DATE:20190708
DTEND;VALUE=DATE:20190709
DTSTAMP:20260423T011625
CREATED:20190227T165403Z
LAST-MODIFIED:20190227T165403Z
UID:825-1562544000-1562630399@www.gpgolf.ca
SUMMARY:Grandma's Tournament
DESCRIPTION:Grandma’s Tournament
URL:https://www.gpgolf.ca/event/grandmas-tournament/
LOCATION:Grande Prairie Golf & Country Club\, 711040 Resources Road\, Grande Prairie\, Alberta\, T8V 3A7\, Canada
END:VEVENT
BEGIN:VEVENT
DTSTART;VALUE=DATE:20190623
DTEND;VALUE=DATE:20190624
DTSTAMP:20260423T011625
CREATED:20190227T164941Z
LAST-MODIFIED:20190227T164941Z
UID:817-1561248000-1561334399@www.gpgolf.ca
SUMMARY:Alberta North Junior Qualifier
DESCRIPTION:Alberta North Junior Qualifier
URL:https://www.gpgolf.ca/event/alberta-north-junior-qualifier/
LOCATION:Grande Prairie Golf & Country Club\, 711040 Resources Road\, Grande Prairie\, Alberta\, T8V 3A7\, Canada
CATEGORIES:Public,Tournament
END:VEVENT
BEGIN:VEVENT
DTSTART;VALUE=DATE:20190622
DTEND;VALUE=DATE:20190623
DTSTAMP:20260423T011625
CREATED:20190227T164825Z
LAST-MODIFIED:20190227T171140Z
UID:814-1561161600-1561247999@www.gpgolf.ca
SUMMARY:Boston Pizza Couple's Classic
DESCRIPTION:Boston Pizza Couple’s Classic
URL:https://www.gpgolf.ca/event/boston-pizza-couples-classic/
LOCATION:Grande Prairie Golf & Country Club\, 711040 Resources Road\, Grande Prairie\, Alberta\, T8V 3A7\, Canada
CATEGORIES:Public,Tournament
END:VEVENT
BEGIN:VEVENT
DTSTART;VALUE=DATE:20190620
DTEND;VALUE=DATE:20190621
DTSTAMP:20260423T011625
CREATED:20190227T164544Z
LAST-MODIFIED:20190227T164544Z
UID:811-1560988800-1561075199@www.gpgolf.ca
SUMMARY:Canwest Chamber Member Golf Classic
DESCRIPTION:Canwest Chamber Member Golf Classic
URL:https://www.gpgolf.ca/event/canwest-chamber-member-golf-classic/
LOCATION:Grande Prairie Golf & Country Club\, 711040 Resources Road\, Grande Prairie\, Alberta\, T8V 3A7\, Canada
CATEGORIES:Public,Tournament
END:VEVENT
BEGIN:VEVENT
DTSTART;TZID=America/Denver:20190615T000000
DTEND;TZID=America/Denver:20190615T000000
DTSTAMP:20260423T011625
CREATED:20190227T164403Z
LAST-MODIFIED:20190227T164404Z
UID:808-1560556800-1560556800@www.gpgolf.ca
SUMMARY:GP Fire Department Charity Golf Tournament
DESCRIPTION:
URL:https://www.gpgolf.ca/event/gp-fire-department-charity-golf-tournament/
CATEGORIES:Public,Tournament
END:VEVENT
BEGIN:VEVENT
DTSTART;VALUE=DATE:20190614
DTEND;VALUE=DATE:20190615
DTSTAMP:20260423T011625
CREATED:20190226T170725Z
LAST-MODIFIED:20190226T170755Z
UID:793-1560470400-1560556799@www.gpgolf.ca
SUMMARY:Odyssey Sunrise Golf Tournament
DESCRIPTION:Odyssey Sunrise Golf Tournament – June 14\, 2019
URL:https://www.gpgolf.ca/event/odyssey-sunrise-golf-tournament/
LOCATION:Grande Prairie Golf & Country Club\, 711040 Resources Road\, Grande Prairie\, Alberta\, T8V 3A7\, Canada
CATEGORIES:Public,Tournament
END:VEVENT
BEGIN:VEVENT
DTSTART;VALUE=DATE:20190613
DTEND;VALUE=DATE:20190614
DTSTAMP:20260423T011625
CREATED:20190510T214459Z
LAST-MODIFIED:20190510T214459Z
UID:1056-1560384000-1560470399@www.gpgolf.ca
SUMMARY:Odyssey Sunrise Tournament Introduction
DESCRIPTION:
URL:https://www.gpgolf.ca/event/odyssey-sunrise-tournament-introduction/
END:VEVENT
BEGIN:VEVENT
DTSTART;TZID=UTC:20190612T140000
DTEND;TZID=UTC:20190612T180000
DTSTAMP:20260423T011625
CREATED:20190529T223856Z
LAST-MODIFIED:20190529T223856Z
UID:1068-1560348000-1560362400@www.gpgolf.ca
SUMMARY:Calloway Demo Day
DESCRIPTION:Calloway Demo Day
URL:https://www.gpgolf.ca/event/calloway-demo-day/
END:VEVENT
BEGIN:VEVENT
DTSTART;VALUE=DATE:20190609
DTEND;VALUE=DATE:20190610
DTSTAMP:20260423T011625
CREATED:20190311T180801Z
LAST-MODIFIED:20190311T180801Z
UID:981-1560038400-1560124799@www.gpgolf.ca
SUMMARY:Ladies' Classic
DESCRIPTION:
URL:https://www.gpgolf.ca/event/ladies-classic/
LOCATION:Grande Prairie Golf & Country Club\, 711040 Resources Road\, Grande Prairie\, Alberta\, T8V 3A7\, Canada
CATEGORIES:Public,Tournament
END:VEVENT
BEGIN:VEVENT
DTSTART;TZID=UTC:20190607T103000
DTEND;TZID=UTC:20190607T103000
DTSTAMP:20260423T011625
CREATED:20190226T164315Z
LAST-MODIFIED:20190226T164315Z
UID:788-1559903400-1559903400@www.gpgolf.ca
SUMMARY:College Classic Tournament
DESCRIPTION:College Classic – June 7th\, 2019 \nShotgun 10:30 a.m. \n 
URL:https://www.gpgolf.ca/event/college-classic-tournament/
LOCATION:Grande Prairie Golf & Country Club\, 711040 Resources Road\, Grande Prairie\, Alberta\, T8V 3A7\, Canada
CATEGORIES:Public,Tournament
END:VEVENT
BEGIN:VEVENT
DTSTART;VALUE=DATE:20190515
DTEND;VALUE=DATE:20190517
DTSTAMP:20260423T011625
CREATED:20190227T193402Z
LAST-MODIFIED:20190227T193820Z
UID:898-1557878400-1558051199@www.gpgolf.ca
SUMMARY:PEACE REGION PETROLEUM SHOW
DESCRIPTION:PEACE REGION PETROLEUM SHOW
URL:https://www.gpgolf.ca/event/peace-region-petroleum-show/
LOCATION:Evergreen Park\, 55051 Township Road 710\, Grande Prairie\, Alberta\, T8W 5A7\, Canada
END:VEVENT
BEGIN:VEVENT
DTSTART;TZID=America/Denver:20190421T100000
DTEND;TZID=America/Denver:20190421T100000
DTSTAMP:20260423T011625
CREATED:20190225T225557Z
LAST-MODIFIED:20190225T230333Z
UID:776-1555840800-1555840800@www.gpgolf.ca
SUMMARY:Easter Brunch & Egg Hunt
DESCRIPTION:Easter Brunch & Egg Hunt at the Grande Prairie Golf & Country Club
URL:https://www.gpgolf.ca/event/easter-brunch-egg-hunt/
CATEGORIES:Public
END:VEVENT
BEGIN:VEVENT
DTSTART;TZID=UTC:20190412T180000
DTEND;TZID=UTC:20190412T233000
DTSTAMP:20260423T011625
CREATED:20190225T223821Z
LAST-MODIFIED:20190312T230003Z
UID:768-1555092000-1555111800@www.gpgolf.ca
SUMMARY:Blind Wine Tasting
DESCRIPTION:10th Annual Blind Wine Tasting at the Grande Prairie Golf & Country Club
URL:https://www.gpgolf.ca/event/blind-wine-tasting/
LOCATION:Legends Lounge
CATEGORIES:Public
END:VEVENT
END:VCALENDAR