BEGIN:VCALENDAR
VERSION:2.0
PRODID:-//Grande Prairie Golf &amp; Country Club - ECPv6.15.14//NONSGML v1.0//EN
CALSCALE:GREGORIAN
METHOD:PUBLISH
X-ORIGINAL-URL:https://www.gpgolf.ca
X-WR-CALDESC:Events for Grande Prairie Golf &amp; Country Club
REFRESH-INTERVAL;VALUE=DURATION:PT1H
X-Robots-Tag:noindex
X-PUBLISHED-TTL:PT1H
BEGIN:VTIMEZONE
TZID:UTC
BEGIN:STANDARD
TZOFFSETFROM:+0000
TZOFFSETTO:+0000
TZNAME:UTC
DTSTART:20240101T000000
END:STANDARD
END:VTIMEZONE
BEGIN:VEVENT
DTSTART;TZID=UTC:20250619T103000
DTEND;TZID=UTC:20250619T230000
DTSTAMP:20260420T082327
CREATED:20250403T172237Z
LAST-MODIFIED:20250403T172237Z
UID:3344-1750329000-1750374000@www.gpgolf.ca
SUMMARY:Sunlife
DESCRIPTION:Sunlife \n10:30 start
URL:https://www.gpgolf.ca/event/sunlife/
CATEGORIES:Private,Tournament
END:VEVENT
END:VCALENDAR