BEGIN:VCALENDAR
VERSION:2.0
PRODID:-//Grande Prairie Golf &amp; Country Club - ECPv6.15.14//NONSGML v1.0//EN
CALSCALE:GREGORIAN
METHOD:PUBLISH
X-WR-CALNAME:Grande Prairie Golf &amp; Country Club
X-ORIGINAL-URL:https://www.gpgolf.ca
X-WR-CALDESC:Events for Grande Prairie Golf &amp; Country Club
REFRESH-INTERVAL;VALUE=DURATION:PT1H
X-Robots-Tag:noindex
X-PUBLISHED-TTL:PT1H
BEGIN:VTIMEZONE
TZID:UTC
BEGIN:STANDARD
TZOFFSETFROM:+0000
TZOFFSETTO:+0000
TZNAME:UTC
DTSTART:20240101T000000
END:STANDARD
END:VTIMEZONE
BEGIN:VEVENT
DTSTART;VALUE=DATE:20250807
DTEND;VALUE=DATE:20250809
DTSTAMP:20260420T042614
CREATED:20250403T174951Z
LAST-MODIFIED:20250403T174951Z
UID:3389-1754524800-1754697599@www.gpgolf.ca
SUMMARY:Oilmen's Golf Event
DESCRIPTION:Oilmen’s Golf Event \nGolf\, Dinner
URL:https://www.gpgolf.ca/event/oilmens-golf-event/
CATEGORIES:Private,Tournament
END:VEVENT
END:VCALENDAR