BEGIN:VCALENDAR
VERSION:2.0
PRODID:-//Grande Prairie Golf &amp; Country Club - ECPv6.15.14//NONSGML v1.0//EN
CALSCALE:GREGORIAN
METHOD:PUBLISH
X-ORIGINAL-URL:https://www.gpgolf.ca
X-WR-CALDESC:Events for Grande Prairie Golf &amp; Country Club
REFRESH-INTERVAL;VALUE=DURATION:PT1H
X-Robots-Tag:noindex
X-PUBLISHED-TTL:PT1H
BEGIN:VTIMEZONE
TZID:UTC
BEGIN:STANDARD
TZOFFSETFROM:+0000
TZOFFSETTO:+0000
TZNAME:UTC
DTSTART:20240101T000000
END:STANDARD
END:VTIMEZONE
BEGIN:VEVENT
DTSTART;VALUE=DATE:20250604
DTEND;VALUE=DATE:20250605
DTSTAMP:20260420T071806
CREATED:20250403T170416Z
LAST-MODIFIED:20250403T170416Z
UID:3322-1748995200-1749081599@www.gpgolf.ca
SUMMARY:ARHCA
DESCRIPTION:ARHCA \n9 a.m. modified shotgun
URL:https://www.gpgolf.ca/event/arhca/
CATEGORIES:Private,Tournament
END:VEVENT
BEGIN:VEVENT
DTSTART;VALUE=DATE:20250612
DTEND;VALUE=DATE:20250614
DTSTAMP:20260420T071806
CREATED:20250403T171435Z
LAST-MODIFIED:20250403T171435Z
UID:3337-1749686400-1749859199@www.gpgolf.ca
SUMMARY:Odyssey/ Sunrise House
DESCRIPTION:Odyssey/ Sunrise House \n11 a.m. Shotgun \nVIP Night & Dinner
URL:https://www.gpgolf.ca/event/odyssey-sunrise-house-2/
LOCATION:Grande Prairie Golf & Country Club\, 711040 Resources Road\, Grande Prairie\, Alberta\, T8V 3A7\, Canada
CATEGORIES:Private,Tournament
END:VEVENT
BEGIN:VEVENT
DTSTART;VALUE=DATE:20250618
DTEND;VALUE=DATE:20250619
DTSTAMP:20260420T071806
CREATED:20250403T172655Z
LAST-MODIFIED:20250403T172655Z
UID:3356-1750204800-1750291199@www.gpgolf.ca
SUMMARY:Fidelity Insurance
DESCRIPTION:Fidelity Insurance
URL:https://www.gpgolf.ca/event/fidelity-insurance/
CATEGORIES:Private,Tournament
END:VEVENT
BEGIN:VEVENT
DTSTART;TZID=UTC:20250619T103000
DTEND;TZID=UTC:20250619T230000
DTSTAMP:20260420T071806
CREATED:20250403T172237Z
LAST-MODIFIED:20250403T172237Z
UID:3344-1750329000-1750374000@www.gpgolf.ca
SUMMARY:Sunlife
DESCRIPTION:Sunlife \n10:30 start
URL:https://www.gpgolf.ca/event/sunlife/
CATEGORIES:Private,Tournament
END:VEVENT
BEGIN:VEVENT
DTSTART;TZID=UTC:20250627T100000
DTEND;TZID=UTC:20250627T230000
DTSTAMP:20260420T071806
CREATED:20250403T172928Z
LAST-MODIFIED:20250403T172928Z
UID:3362-1751018400-1751065200@www.gpgolf.ca
SUMMARY:Apex
DESCRIPTION:Apex \n10 a.m. shotgun
URL:https://www.gpgolf.ca/event/apex/
CATEGORIES:Private,Tournament
END:VEVENT
END:VCALENDAR