BEGIN:VCALENDAR
VERSION:2.0
PRODID:-//Grande Prairie Golf &amp; Country Club - ECPv6.15.14//NONSGML v1.0//EN
CALSCALE:GREGORIAN
METHOD:PUBLISH
X-WR-CALNAME:Grande Prairie Golf &amp; Country Club
X-ORIGINAL-URL:https://www.gpgolf.ca
X-WR-CALDESC:Events for Grande Prairie Golf &amp; Country Club
REFRESH-INTERVAL;VALUE=DURATION:PT1H
X-Robots-Tag:noindex
X-PUBLISHED-TTL:PT1H
BEGIN:VTIMEZONE
TZID:UTC
BEGIN:STANDARD
TZOFFSETFROM:+0000
TZOFFSETTO:+0000
TZNAME:UTC
DTSTART:20240101T000000
END:STANDARD
END:VTIMEZONE
BEGIN:VEVENT
DTSTART;TZID=UTC:20250529T080000
DTEND;TZID=UTC:20250529T170000
DTSTAMP:20260420T083531
CREATED:20250403T165737Z
LAST-MODIFIED:20250403T165737Z
UID:3316-1748505600-1748538000@www.gpgolf.ca
SUMMARY:D-Now Golf & Dinner
DESCRIPTION:D-Now Golf & Dinner \n10:00 a.m. shotgun\, dinner to follow
URL:https://www.gpgolf.ca/event/d-now-golf-dinner/
LOCATION:Grande Prairie Golf & Country Club\, 711040 Resources Road\, Grande Prairie\, Alberta\, T8V 3A7\, Canada
CATEGORIES:Private,Tournament
END:VEVENT
END:VCALENDAR